Workbook

Sheet 団体用申込書
C1: 在 職 者 訓 練 （浜松テクノカレッジ）
C2: 受 講 申 込 書 （団体用）
B3: 貴校の在職者訓練を受講したいので申し込みます。
B4: ガス溶接技能講習の受講者は、本書の提出により、個人情報の指定保存交付期間への提供に同意します。
R5: 申込日 ↓↓ 西暦年/月/日 入力例: 2023/7/1
B6: 浜松技術専門校長 様 | R6: 46085
Q7: (注1)生年月日は西暦入力または和暦入力も可。 入力例: 1992/3/3 、 H10/1/15 、 S55/1/25 等
B9: ＜受講希望者名簿＞ | I9: 色のセルに漏れなく入力して下さい。また、申込者は上詰めで入力して下さい。
B10: 入力方法 | C10: 郵便番号 | F10: 〒435-1111 ( ← 435-1111 と入力) | L10: ふりがな | O10: ひらがな入力 （せい＿めい） | S10: 性 別 | T10: 一覧から選択 | U10: 就業形態 | AH10: 正規
C11: 住 所 | F11: (４３５－１１１１ と全角入力し変換可能) | L11: 氏 名 | O11: 苗字と名前の間、空白１マス | S11: 職 種 | T11: セルをクリックし一覧から選択 | AH11: 非正規
AH12: その他
C13: 電話番号 ℡ | F13: 053-123-4567 ( ← ハイフンを入れて) | L13: 生年月日(注1) | O13: 西暦年/月/日 (注1) | S13: 経験年数 | T13: 数字のみ（年不要）
B14: 表示例 | C14: 郵便番号 | F14: 〒435-0056 | L14: ふりがな | O14: はままつ ぎじゅつ | S14: 性 別 | T14: 男性
C15: 住 所 | F15: 浜松市東区小池町２４４４－１ | L15: 氏 名 | O15: 浜松 技術 | S15: 職 種 | T15: 3、企画･設計･経営管理
C17: 電話番号 ℡ | F17: 053-462-5603 | L17: 生年月日(注1) | O17: 33219 | S17: 経験年数 | T17: 2
B18: 1 | C18: 郵便番号 | L18: ふりがな | S18: 性 別
C19: 住 所 | L19: 氏 名 | S19: 職 種
C21: 電話番号 ℡ | L21: 生年月日(注1) | S21: 経験年数 | V21: =IF(LEN(MONTH(O21))=1,CONCATENATE("0",MONTH(O21)),MONTH(O21)) -> 01 | W21: =IF(LEN(DAY(O21))=1,CONCATENATE("0",DAY(O21)),DAY(O21)) -> 00 | X21: =YEAR(O21) -> 1900
B22: 2 | C22: 郵便番号 | L22: ふりがな | S22: 性 別
C23: 住 所 | L23: 氏 名 | S23: 職 種
C25: 電話番号 ℡ | L25: 生年月日(注1) | S25: 経験年数 | V25: =IF(LEN(MONTH(O25))=1,CONCATENATE("0",MONTH(O25)),MONTH(O25)) -> 01 | W25: =IF(LEN(DAY(O25))=1,CONCATENATE("0",DAY(O25)),DAY(O25)) -> 00 | X25: =YEAR(O25) -> 1900
B26: 3 | C26: 郵便番号 | L26: ふりがな | S26: 性 別
C27: 住 所 | L27: 氏 名 | S27: 職 種
C29: 電話番号 ℡ | L29: 生年月日(注1) | S29: 経験年数 | V29: =IF(LEN(MONTH(O29))=1,CONCATENATE("0",MONTH(O29)),MONTH(O29)) -> 01 | W29: =IF(LEN(DAY(O29))=1,CONCATENATE("0",DAY(O29)),DAY(O29)) -> 00 | X29: =YEAR(O29) -> 1900
B30: 4 | C30: 郵便番号 | L30: ふりがな | S30: 性 別
C31: 住 所 | L31: 氏 名 | S31: 職 種
C33: 電話番号 ℡ | L33: 生年月日(注1) | S33: 経験年数 | V33: =IF(LEN(MONTH(O33))=1,CONCATENATE("0",MONTH(O33)),MONTH(O33)) -> 01 | W33: =IF(LEN(DAY(O33))=1,CONCATENATE("0",DAY(O33)),DAY(O33)) -> 00 | X33: =YEAR(O33) -> 1900
B34: 5 | C34: 郵便番号 | L34: ふりがな | S34: 性 別
C35: 住 所 | L35: 氏 名 | S35: 職 種
C37: 電話番号 ℡ | L37: 生年月日(注1) | S37: 経験年数 | V37: =IF(LEN(MONTH(O37))=1,CONCATENATE("0",MONTH(O37)),MONTH(O37)) -> 01 | W37: =IF(LEN(DAY(O37))=1,CONCATENATE("0",DAY(O37)),DAY(O37)) -> 00 | X37: =YEAR(O37) -> 1900
B38: 6 | C38: 郵便番号 | L38: ふりがな | S38: 性 別
C39: 住 所 | L39: 氏 名 | S39: 職 種
C41: 電話番号 ℡ | L41: 生年月日(注1) | S41: 経験年数 | V41: =IF(LEN(MONTH(O41))=1,CONCATENATE("0",MONTH(O41)),MONTH(O41)) -> 01 | W41: =IF(LEN(DAY(O41))=1,CONCATENATE("0",DAY(O41)),DAY(O41)) -> 00 | X41: =YEAR(O41) -> 1900
B42: 7 | C42: 郵便番号 | L42: ふりがな | S42: 性 別
C43: 住 所 | L43: 氏 名 | S43: 職 種
C45: 電話番号 ℡ | L45: 生年月日(注1) | S45: 経験年数 | V45: =IF(LEN(MONTH(O45))=1,CONCATENATE("0",MONTH(O45)),MONTH(O45)) -> 01 | W45: =IF(LEN(DAY(O45))=1,CONCATENATE("0",DAY(O45)),DAY(O45)) -> 00 | X45: =YEAR(O45) -> 1900
B46: 8 | C46: 郵便番号 | L46: ふりがな | S46: 性 別
C47: 住 所 | L47: 氏 名 | S47: 職 種
C49: 電話番号 ℡ | L49: 生年月日(注1) | S49: 経験年数 | V49: =IF(LEN(MONTH(O49))=1,CONCATENATE("0",MONTH(O49)),MONTH(O49)) -> 01 | W49: =IF(LEN(DAY(O49))=1,CONCATENATE("0",DAY(O49)),DAY(O49)) -> 00 | X49: =YEAR(O49) -> 1900
O50: ガス溶接技能講習を受講申込みする場合のみ、修了証に旧姓・通称記載を希望される方は、通称氏名・ふりがなを（）内に記入
...

Sheet ←　シート名は変更しないでください！

Sheet 団体申込詳細データ
B1: 利用者ID | C1: 連絡先メールアドレス | D1: 整理番号 | E1: 氏名/法人名 | F1: 様式Ver | G1: 様式ID | H1: 様式名 | I1: 申込日時 | J1: 処理状況 | K1: 備考 | L1: 個人/団体 | M1: お名前 | N1: 氏名（ふりがな） | O1: 性別 | P1: 受講通知送付先 | Q1: 郵便番号 | R1: 住所 | S1: 生年月日 | T1: 電話番号 | U1: 添付ファイル名 | V1: 空行 | W1: 経験年数 | X1: 職務内容 | Y1: 事業所名 | Z1: 事業所電話番号 | AA1: 事業所FAX | AB1: 連絡担当者 | AC1: 事業所の郵便番号 | AD1: 事業所の住所 | AE1: 事業所の規模 | AF1: 業種 | AG1: 就業形態
A2: 1 | J2: =IF(M2="","","完了") | L2: =IF(M2="","","団体") | M2: =IF(団体用申込書!O19="","",団体用申込書!O19) | N2: =IF(M2="","",団体用申込書!O18) | O2: =IF(M2="","",団体用申込書!T18) | P2: =IF(M2="","","会社") | Q2: =IF(M2="","",団体用申込書!F18) | R2: =IF(M2="","",団体用申込書!F19) | S2: =IF(M2="","",CONCATENATE(団体用申込書!X21,団体用申込書!V21,団体用申込書!W21)) | T2: =IF(M2="","",団体用申込書!F21) | W2: =IF(M2="","",団体用申込書!T21) | X2: =IF(M2="","",団体用申込書!T19) | AG2: =IF(M2="","",団体用申込書!U18) | AJ2: 1
A3: 2 | C3: =IF(M3="","",$C$2) | D3: =IF(M3="","",$D$2) | E3: =IF(M3="","",$E$2) | F3: =IF(M3="","",$F$2) | G3: =IF(M3="","",$G$2) | H3: =IF(M3="","",$H$2) | I3: =IF(M3="","",$I$2) | J3: =IF(M3="","","完了") | L3: =IF(M3="","","団体") | M3: =IF(団体用申込書!O23="","",団体用申込書!O23) | N3: =IF(M3="","",団体用申込書!O22) | O3: =IF(M3="","",団体用申込書!T22) | P3: =IF(M3="","","会社") | Q3: =IF(M3="","",団体用申込書!F22) | R3: =IF(M3="","",団体用申込書!F23) | S3: =IF(M3="","",CONCATENATE(団体用申込書!X25,団体用申込書!V25,団体用申込書!W25)) | T3: =IF(M3="","",団体用申込書!F25) | W3: =IF(M3="","",団体用申込書!T25) | X3: =IF(M3="","",団体用申込書!T23) | AG3: =IF(M3="","",団体用申込書!U22) | AJ3: 2
A4: 3 | C4: =IF(M4="","",$C$2) | D4: =IF(M4="","",$D$2) | E4: =IF(M4="","",$E$2) | F4: =IF(M4="","",$F$2) | G4: =IF(M4="","",$G$2) | H4: =IF(M4="","",$H$2) | I4: =IF(M4="","",$I$2) | J4: =IF(M4="","","完了") | L4: =IF(M4="","","団体") | M4: =IF(団体用申込書!O27="","",団体用申込書!O27) | N4: =IF(M4="","",団体用申込書!O26) | O4: =IF(M4="","",団体用申込書!T26) | P4: =IF(M4="","","会社") | Q4: =IF(M4="","",団体用申込書!F26) | R4: =IF(M4="","",団体用申込書!F27) | S4: =IF(M4="","",CONCATENATE(団体用申込書!X29,団体用申込書!V29,団体用申込書!W29)) | T4: =IF(M4="","",団体用申込書!F29) | W4: =IF(M4="","",団体用申込書!T29) | X4: =IF(M4="","",団体用申込書!T27) | AG4: =IF(M4="","",団体用申込書!U26) | AJ4: 3
A5: 4 | C5: =IF(M5="","",$C$2) | D5: =IF(M5="","",$D$2) | E5: =IF(M5="","",$E$2) | F5: =IF(M5="","",$F$2) | G5: =IF(M5="","",$G$2) | H5: =IF(M5="","",$H$2) | I5: =IF(M5="","",$I$2) | J5: =IF(M5="","","完了") | L5: =IF(M5="","","団体") | M5: =IF(団体用申込書!O31="","",団体用申込書!O31) | N5: =IF(M5="","",団体用申込書!O30) | O5: =IF(M5="","",団体用申込書!T30) | P5: =IF(M5="","","会社") | Q5: =IF(M5="","",団体用申込書!F30) | R5: =IF(M5="","",団体用申込書!F31) | S5: =IF(M5="","",CONCATENATE(団体用申込書!X33,団体用申込書!V33,団体用申込書!W33)) | T5: =IF(M5="","",団体用申込書!F33) | W5: =IF(M5="","",団体用申込書!T33) | X5: =IF(M5="","",団体用申込書!T31) | AG5: =IF(M5="","",団体用申込書!U30) | AJ5: 4
A6: 5 | C6: =IF(M6="","",$C$2) | D6: =IF(M6="","",$D$2) | E6: =IF(M6="","",$E$2) | F6: =IF(M6="","",$F$2) | G6: =IF(M6="","",$G$2) | H6: =IF(M6="","",$H$2) | I6: =IF(M6="","",$I$2) | J6: =IF(M6="","","完了") | L6: =IF(M6="","","団体") | M6: =IF(団体用申込書!O35="","",団体用申込書!O35) | N6: =IF(M6="","",団体用申込書!O34) | O6: =IF(M6="","",団体用申込書!T34) | P6: =IF(M6="","","会社") | Q6: =IF(M6="","",団体用申込書!F34) | R6: =IF(M6="","",団体用申込書!F35) | S6: =IF(M6="","",CONCATENATE(団体用申込書!X37,団体用申込書!V37,団体用申込書!W37)) | T6: =IF(M6="","",団体用申込書!F37) | W6: =IF(M6="","",団体用申込書!T37) | X6: =IF(M6="","",団体用申込書!T35) | AG6: =IF(M6="","",団体用申込書!U34) | AJ6: 5
A7: 6 | C7: =IF(M7="","",$C$2) | D7: =IF(M7="","",$D$2) | E7: =IF(M7="","",$E$2) | F7: =IF(M7="","",$F$2) | G7: =IF(M7="","",$G$2) | H7: =IF(M7="","",$H$2) | I7: =IF(M7="","",$I$2) | J7: =IF(M7="","","完了") | L7: =IF(M7="","","団体") | M7: =IF(団体用申込書!O39="","",団体用申込書!O39) | N7: =IF(M7="","",団体用申込書!O38) | O7: =IF(M7="","",団体用申込書!T38) | P7: =IF(M7="","","会社") | Q7: =IF(M7="","",団体用申込書!F38) | R7: =IF(M7="","",団体用申込書!F39) | S7: =IF(M7="","",CONCATENATE(団体用申込書!X41,団体用申込書!V41,団体用申込書!W41)) | T7: =IF(M7="","",団体用申込書!F41) | W7: =IF(M7="","",団体用申込書!T41) | X7: =IF(M7="","",団体用申込書!T39) | AG7: =IF(M7="","",団体用申込書!U38) | AJ7: 6
A8: 7 | C8: =IF(M8="","",$C$2) | D8: =IF(M8="","",$D$2) | E8: =IF(M8="","",$E$2) | F8: =IF(M8="","",$F$2) | G8: =IF(M8="","",$G$2) | H8: =IF(M8="","",$H$2) | I8: =IF(M8="","",$I$2) | J8: =IF(M8="","","完了") | L8: =IF(M8="","","団体") | M8: =IF(団体用申込書!O43="","",団体用申込書!O43) | N8: =IF(M8="","",団体用申込書!O42) | O8: =IF(M8="","",団体用申込書!T42) | P8: =IF(M8="","","会社") | Q8: =IF(M8="","",団体用申込書!F42) | R8: =IF(M8="","",団体用申込書!F43) | S8: =IF(M8="","",CONCATENATE(団体用申込書!X45,団体用申込書!V45,団体用申込書!W45)) | T8: =IF(M8="","",団体用申込書!F45) | W8: =IF(M8="","",団体用申込書!T45) | X8: =IF(M8="","",団体用申込書!T43) | AG8: =IF(M8="","",団体用申込書!U42) | AJ8: 7
A9: 8 | C9: =IF(M9="","",$C$2) | D9: =IF(M9="","",$D$2) | E9: =IF(M9="","",$E$2) | F9: =IF(M9="","",$F$2) | G9: =IF(M9="","",$G$2) | H9: =IF(M9="","",$H$2) | I9: =IF(M9="","",$I$2) | J9: =IF(M9="","","完了") | L9: =IF(M9="","","団体") | M9: =IF(団体用申込書!O47="","",団体用申込書!O47) | N9: =IF(M9="","",団体用申込書!O46) | O9: =IF(M9="","",団体用申込書!T46) | P9: =IF(M9="","","会社") | Q9: =IF(M9="","",団体用申込書!F46) | R9: =IF(M9="","",団体用申込書!F47) | S9: =IF(M9="","",CONCATENATE(団体用申込書!X49,団体用申込書!V49,団体用申込書!W49)) | T9: =IF(M9="","",団体用申込書!F49) | W9: =IF(M9="","",団体用申込書!T49) | X9: =IF(M9="","",団体用申込書!T47) | AG9: =IF(M9="","",団体用申込書!U46) | AJ9: 8
A10: 9
A11: 10
A12: 11
A13: 12
A14: 13
A15: 14
A16: 15
A17: 16
A18: 17
A19: 18
A20: 19
A21: 20
... A101: 100
